BEGIN:VCALENDAR
VERSION:2.0
PRODID:-//Nevada Republican Party - ECPv6.15.20//NONSGML v1.0//EN
CALSCALE:GREGORIAN
METHOD:PUBLISH
X-WR-CALNAME:Nevada Republican Party
X-ORIGINAL-URL:https://nevadagop.org
X-WR-CALDESC:Events for Nevada Republican Party
REFRESH-INTERVAL;VALUE=DURATION:PT1H
X-Robots-Tag:noindex
X-PUBLISHED-TTL:PT1H
BEGIN:VTIMEZONE
TZID:America/Los_Angeles
BEGIN:DAYLIGHT
TZOFFSETFROM:-0800
TZOFFSETTO:-0700
TZNAME:PDT
DTSTART:20190310T100000
END:DAYLIGHT
BEGIN:STANDARD
TZOFFSETFROM:-0700
TZOFFSETTO:-0800
TZNAME:PST
DTSTART:20191103T090000
END:STANDARD
BEGIN:DAYLIGHT
TZOFFSETFROM:-0800
TZOFFSETTO:-0700
TZNAME:PDT
DTSTART:20200308T100000
END:DAYLIGHT
BEGIN:STANDARD
TZOFFSETFROM:-0700
TZOFFSETTO:-0800
TZNAME:PST
DTSTART:20201101T090000
END:STANDARD
BEGIN:DAYLIGHT
TZOFFSETFROM:-0800
TZOFFSETTO:-0700
TZNAME:PDT
DTSTART:20210314T100000
END:DAYLIGHT
BEGIN:STANDARD
TZOFFSETFROM:-0700
TZOFFSETTO:-0800
TZNAME:PST
DTSTART:20211107T090000
END:STANDARD
END:VTIMEZONE
BEGIN:VEVENT
DTSTART;TZID=America/Los_Angeles:20200227T140000
DTEND;TZID=America/Los_Angeles:20200227T160000
DTSTAMP:20260419T185948
CREATED:20200226T161333Z
LAST-MODIFIED:20200229T161512Z
UID:10004552-1582812000-1582819200@nevadagop.org
SUMMARY:Trump Victory Leadership Initiative Training - Whitney Library
DESCRIPTION:Want to make a positive impact in your community? Come learn how to register new Republican voters at our upcoming workshop in Las Vegas! \nJoin our Trump Victory Voter Registration Workshop on Thursday\, February 27th. We’ll train you on how to register new Republican voters and showcase how we’re going to re-elect President Trump and elect Republicans up and down the ticket in 2020. \nIn 2020\, we must work together and register new Republican voters across Nevada! This training is being held by Trump Victory and the Nevada GOP
URL:https://nevadagop.org/event/trump-victory-leadership-initiative-training-whitney-library/
LOCATION:The Whitney Library\, 5175 E Tropicana Ave\, Las Vegas\, NV\, 89122\, United States
CATEGORIES:TVLI,Voter Registration Drive,Voter Registration Training
END:VEVENT
BEGIN:VEVENT
DTSTART;TZID=America/Los_Angeles:20200227T140000
DTEND;TZID=America/Los_Angeles:20200227T160000
DTSTAMP:20260419T185948
CREATED:20200226T161333Z
LAST-MODIFIED:20200226T161333Z
UID:10006583-1582812000-1582819200@nevadagop.org
SUMMARY:Trump Victory Leadership Initiative Training - Whitney Library
DESCRIPTION:Want to make a positive impact in your community? Come learn how to register new Republican voters at our upcoming workshop in Las Vegas! \nJoin our Trump Victory Voter Registration Workshop on Thursday\, February 27th. We’ll train you on how to register new Republican voters and showcase how we’re going to re-elect President Trump and elect Republicans up and down the ticket in 2020. \nIn 2020\, we must work together and register new Republican voters across Nevada! This training is being held by Trump Victory and the Nevada GOP
URL:https://nevadagop.org/event/trump-victory-leadership-initiative-training-whitney-library-2/
LOCATION:The Whitney Library\, 5175 E Tropicana Ave\, Las Vegas\, NV\, 89122\, United States
CATEGORIES:TVLI,Voter Registration Drive,Voter Registration Training
END:VEVENT
BEGIN:VEVENT
DTSTART;TZID=America/Los_Angeles:20200201T140000
DTEND;TZID=America/Los_Angeles:20200201T160000
DTSTAMP:20260419T185948
CREATED:20200131T173929Z
LAST-MODIFIED:20200131T173929Z
UID:10004065-1580565600-1580572800@nevadagop.org
SUMMARY:Trump Victory Leadership Initiative Training - Las Vegas
DESCRIPTION:Want to make a positive impact in your community? Come learn how to register new Republican voters at our upcoming workshop in Las Vegas! \nJoin our Trump Victory Voter Registration Workshop on Saturday\, February 1st. We’ll train you on how to register new Republican voters and showcase how we’re going to re-elect President Trump and elect Republicans up and down the ticket in 2020. \nIn 2020\, we must work together and register new Republican voters across Nevada! This training is being held by Trump Victory and the Nevada GOP at The Whitney Library\, 5175 E. Tropicana Ave.\,Las Vegas\, NV 89122
URL:https://nevadagop.org/event/trump-victory-leadership-initiative-training-las-vegas-2/
LOCATION:The Whitney Library\, 5175 E Tropicana Ave\, Las Vegas\, NV\, 89122\, United States
CATEGORIES:TVLI,Voter Registration Training
END:VEVENT
BEGIN:VEVENT
DTSTART;TZID=America/Los_Angeles:20200201T140000
DTEND;TZID=America/Los_Angeles:20200201T160000
DTSTAMP:20260419T185948
CREATED:20200131T173929Z
LAST-MODIFIED:20200131T173929Z
UID:10006463-1580565600-1580572800@nevadagop.org
SUMMARY:Trump Victory Leadership Initiative Training - Las Vegas
DESCRIPTION:Want to make a positive impact in your community? Come learn how to register new Republican voters at our upcoming workshop in Las Vegas! \nJoin our Trump Victory Voter Registration Workshop on Saturday\, February 1st. We’ll train you on how to register new Republican voters and showcase how we’re going to re-elect President Trump and elect Republicans up and down the ticket in 2020. \nIn 2020\, we must work together and register new Republican voters across Nevada! This training is being held by Trump Victory and the Nevada GOP at The Whitney Library\, 5175 E. Tropicana Ave.\,Las Vegas\, NV 89122
URL:https://nevadagop.org/event/trump-victory-leadership-initiative-training-las-vegas-2-2/
LOCATION:The Whitney Library\, 5175 E Tropicana Ave\, Las Vegas\, NV\, 89122\, United States
CATEGORIES:TVLI,Voter Registration Training
END:VEVENT
END:VCALENDAR