BEGIN:VCALENDAR
VERSION:2.0
PRODID:-//Nevada Republican Party - ECPv6.15.20//NONSGML v1.0//EN
CALSCALE:GREGORIAN
METHOD:PUBLISH
X-WR-CALNAME:Nevada Republican Party
X-ORIGINAL-URL:https://nevadagop.org
X-WR-CALDESC:Events for Nevada Republican Party
REFRESH-INTERVAL;VALUE=DURATION:PT1H
X-Robots-Tag:noindex
X-PUBLISHED-TTL:PT1H
BEGIN:VTIMEZONE
TZID:America/Los_Angeles
BEGIN:DAYLIGHT
TZOFFSETFROM:-0800
TZOFFSETTO:-0700
TZNAME:PDT
DTSTART:20260308T100000
END:DAYLIGHT
BEGIN:STANDARD
TZOFFSETFROM:-0700
TZOFFSETTO:-0800
TZNAME:PST
DTSTART:20261101T090000
END:STANDARD
BEGIN:DAYLIGHT
TZOFFSETFROM:-0800
TZOFFSETTO:-0700
TZNAME:PDT
DTSTART:20270314T100000
END:DAYLIGHT
BEGIN:STANDARD
TZOFFSETFROM:-0700
TZOFFSETTO:-0800
TZNAME:PST
DTSTART:20271107T090000
END:STANDARD
BEGIN:DAYLIGHT
TZOFFSETFROM:-0800
TZOFFSETTO:-0700
TZNAME:PDT
DTSTART:20280312T100000
END:DAYLIGHT
BEGIN:STANDARD
TZOFFSETFROM:-0700
TZOFFSETTO:-0800
TZNAME:PST
DTSTART:20281105T090000
END:STANDARD
BEGIN:DAYLIGHT
TZOFFSETFROM:-0800
TZOFFSETTO:-0700
TZNAME:PDT
DTSTART:20290311T100000
END:DAYLIGHT
BEGIN:STANDARD
TZOFFSETFROM:-0700
TZOFFSETTO:-0800
TZNAME:PST
DTSTART:20291104T090000
END:STANDARD
BEGIN:DAYLIGHT
TZOFFSETFROM:-0800
TZOFFSETTO:-0700
TZNAME:PDT
DTSTART:20300310T100000
END:DAYLIGHT
BEGIN:STANDARD
TZOFFSETFROM:-0700
TZOFFSETTO:-0800
TZNAME:PST
DTSTART:20301103T090000
END:STANDARD
END:VTIMEZONE
BEGIN:VEVENT
DTSTART;TZID=America/Los_Angeles:20270427T104500
DTEND;TZID=America/Los_Angeles:20270427T130000
DTSTAMP:20260419T071417
CREATED:20250816T033215Z
LAST-MODIFIED:20250816T033215Z
UID:10008820-1808822700-1808830800@nevadagop.org
SUMMARY:Southern Hills Republican Women Meetings
DESCRIPTION:
URL:https://nevadagop.org/event/southern-hills-republican-women-meetings-6/2027-04-27/
LOCATION:Sun City Sun City MacDonald Ranch Clubhouse @ Desert Willow Golf Course
CATEGORIES:Community,Meet Up,Meetings
ORGANIZER;CN="Southern Hills Republican Women":MAILTO:shrwcommunications@gmail.com
END:VEVENT
BEGIN:VEVENT
DTSTART;TZID=America/Los_Angeles:20270525T104500
DTEND;TZID=America/Los_Angeles:20270525T130000
DTSTAMP:20260419T071417
CREATED:20250816T033215Z
LAST-MODIFIED:20250816T033215Z
UID:10008821-1811241900-1811250000@nevadagop.org
SUMMARY:Southern Hills Republican Women Meetings
DESCRIPTION:
URL:https://nevadagop.org/event/southern-hills-republican-women-meetings-6/2027-05-25/
LOCATION:Sun City Sun City MacDonald Ranch Clubhouse @ Desert Willow Golf Course
CATEGORIES:Community,Meet Up,Meetings
ORGANIZER;CN="Southern Hills Republican Women":MAILTO:shrwcommunications@gmail.com
END:VEVENT
BEGIN:VEVENT
DTSTART;TZID=America/Los_Angeles:20270622T104500
DTEND;TZID=America/Los_Angeles:20270622T130000
DTSTAMP:20260419T071417
CREATED:20250816T033215Z
LAST-MODIFIED:20250816T033215Z
UID:10008822-1813661100-1813669200@nevadagop.org
SUMMARY:Southern Hills Republican Women Meetings
DESCRIPTION:
URL:https://nevadagop.org/event/southern-hills-republican-women-meetings-6/2027-06-22/
LOCATION:Sun City Sun City MacDonald Ranch Clubhouse @ Desert Willow Golf Course
CATEGORIES:Community,Meet Up,Meetings
ORGANIZER;CN="Southern Hills Republican Women":MAILTO:shrwcommunications@gmail.com
END:VEVENT
BEGIN:VEVENT
DTSTART;TZID=America/Los_Angeles:20270727T104500
DTEND;TZID=America/Los_Angeles:20270727T130000
DTSTAMP:20260419T071417
CREATED:20250816T033215Z
LAST-MODIFIED:20250816T033215Z
UID:10008823-1816685100-1816693200@nevadagop.org
SUMMARY:Southern Hills Republican Women Meetings
DESCRIPTION:
URL:https://nevadagop.org/event/southern-hills-republican-women-meetings-6/2027-07-27/
LOCATION:Sun City Sun City MacDonald Ranch Clubhouse @ Desert Willow Golf Course
CATEGORIES:Community,Meet Up,Meetings
ORGANIZER;CN="Southern Hills Republican Women":MAILTO:shrwcommunications@gmail.com
END:VEVENT
BEGIN:VEVENT
DTSTART;TZID=America/Los_Angeles:20270824T104500
DTEND;TZID=America/Los_Angeles:20270824T130000
DTSTAMP:20260419T071417
CREATED:20250816T033215Z
LAST-MODIFIED:20250816T033215Z
UID:10008824-1819104300-1819112400@nevadagop.org
SUMMARY:Southern Hills Republican Women Meetings
DESCRIPTION:
URL:https://nevadagop.org/event/southern-hills-republican-women-meetings-6/2027-08-24/
LOCATION:Sun City Sun City MacDonald Ranch Clubhouse @ Desert Willow Golf Course
CATEGORIES:Community,Meet Up,Meetings
ORGANIZER;CN="Southern Hills Republican Women":MAILTO:shrwcommunications@gmail.com
END:VEVENT
BEGIN:VEVENT
DTSTART;TZID=America/Los_Angeles:20270928T104500
DTEND;TZID=America/Los_Angeles:20270928T130000
DTSTAMP:20260419T071417
CREATED:20250816T033215Z
LAST-MODIFIED:20250816T033215Z
UID:10008825-1822128300-1822136400@nevadagop.org
SUMMARY:Southern Hills Republican Women Meetings
DESCRIPTION:
URL:https://nevadagop.org/event/southern-hills-republican-women-meetings-6/2027-09-28/
LOCATION:Sun City Sun City MacDonald Ranch Clubhouse @ Desert Willow Golf Course
CATEGORIES:Community,Meet Up,Meetings
ORGANIZER;CN="Southern Hills Republican Women":MAILTO:shrwcommunications@gmail.com
END:VEVENT
BEGIN:VEVENT
DTSTART;TZID=America/Los_Angeles:20271026T104500
DTEND;TZID=America/Los_Angeles:20271026T130000
DTSTAMP:20260419T071417
CREATED:20250816T033215Z
LAST-MODIFIED:20250816T033215Z
UID:10008826-1824547500-1824555600@nevadagop.org
SUMMARY:Southern Hills Republican Women Meetings
DESCRIPTION:
URL:https://nevadagop.org/event/southern-hills-republican-women-meetings-6/2027-10-26/
LOCATION:Sun City Sun City MacDonald Ranch Clubhouse @ Desert Willow Golf Course
CATEGORIES:Community,Meet Up,Meetings
ORGANIZER;CN="Southern Hills Republican Women":MAILTO:shrwcommunications@gmail.com
END:VEVENT
BEGIN:VEVENT
DTSTART;TZID=America/Los_Angeles:20271123T104500
DTEND;TZID=America/Los_Angeles:20271123T130000
DTSTAMP:20260419T071417
CREATED:20250816T033215Z
LAST-MODIFIED:20250816T033215Z
UID:10008827-1826966700-1826974800@nevadagop.org
SUMMARY:Southern Hills Republican Women Meetings
DESCRIPTION:
URL:https://nevadagop.org/event/southern-hills-republican-women-meetings-6/2027-11-23/
LOCATION:Sun City Sun City MacDonald Ranch Clubhouse @ Desert Willow Golf Course
CATEGORIES:Community,Meet Up,Meetings
ORGANIZER;CN="Southern Hills Republican Women":MAILTO:shrwcommunications@gmail.com
END:VEVENT
BEGIN:VEVENT
DTSTART;TZID=America/Los_Angeles:20271228T104500
DTEND;TZID=America/Los_Angeles:20271228T130000
DTSTAMP:20260419T071417
CREATED:20250816T033215Z
LAST-MODIFIED:20250816T033215Z
UID:10008828-1829990700-1829998800@nevadagop.org
SUMMARY:Southern Hills Republican Women Meetings
DESCRIPTION:
URL:https://nevadagop.org/event/southern-hills-republican-women-meetings-6/2027-12-28/
LOCATION:Sun City Sun City MacDonald Ranch Clubhouse @ Desert Willow Golf Course
CATEGORIES:Community,Meet Up,Meetings
ORGANIZER;CN="Southern Hills Republican Women":MAILTO:shrwcommunications@gmail.com
END:VEVENT
BEGIN:VEVENT
DTSTART;TZID=America/Los_Angeles:20280125T104500
DTEND;TZID=America/Los_Angeles:20280125T130000
DTSTAMP:20260419T071417
CREATED:20250816T033215Z
LAST-MODIFIED:20250816T033215Z
UID:10008829-1832409900-1832418000@nevadagop.org
SUMMARY:Southern Hills Republican Women Meetings
DESCRIPTION:
URL:https://nevadagop.org/event/southern-hills-republican-women-meetings-6/2028-01-25/
LOCATION:Sun City Sun City MacDonald Ranch Clubhouse @ Desert Willow Golf Course
CATEGORIES:Community,Meet Up,Meetings
ORGANIZER;CN="Southern Hills Republican Women":MAILTO:shrwcommunications@gmail.com
END:VEVENT
BEGIN:VEVENT
DTSTART;TZID=America/Los_Angeles:20280222T104500
DTEND;TZID=America/Los_Angeles:20280222T130000
DTSTAMP:20260419T071417
CREATED:20250816T033215Z
LAST-MODIFIED:20250816T033215Z
UID:10008830-1834829100-1834837200@nevadagop.org
SUMMARY:Southern Hills Republican Women Meetings
DESCRIPTION:
URL:https://nevadagop.org/event/southern-hills-republican-women-meetings-6/2028-02-22/
LOCATION:Sun City Sun City MacDonald Ranch Clubhouse @ Desert Willow Golf Course
CATEGORIES:Community,Meet Up,Meetings
ORGANIZER;CN="Southern Hills Republican Women":MAILTO:shrwcommunications@gmail.com
END:VEVENT
BEGIN:VEVENT
DTSTART;TZID=America/Los_Angeles:20280328T104500
DTEND;TZID=America/Los_Angeles:20280328T130000
DTSTAMP:20260419T071417
CREATED:20250816T033215Z
LAST-MODIFIED:20250816T033215Z
UID:10008831-1837853100-1837861200@nevadagop.org
SUMMARY:Southern Hills Republican Women Meetings
DESCRIPTION:
URL:https://nevadagop.org/event/southern-hills-republican-women-meetings-6/2028-03-28/
LOCATION:Sun City Sun City MacDonald Ranch Clubhouse @ Desert Willow Golf Course
CATEGORIES:Community,Meet Up,Meetings
ORGANIZER;CN="Southern Hills Republican Women":MAILTO:shrwcommunications@gmail.com
END:VEVENT
BEGIN:VEVENT
DTSTART;TZID=America/Los_Angeles:20280425T104500
DTEND;TZID=America/Los_Angeles:20280425T130000
DTSTAMP:20260419T071417
CREATED:20250816T033215Z
LAST-MODIFIED:20250816T033215Z
UID:10008832-1840272300-1840280400@nevadagop.org
SUMMARY:Southern Hills Republican Women Meetings
DESCRIPTION:
URL:https://nevadagop.org/event/southern-hills-republican-women-meetings-6/2028-04-25/
LOCATION:Sun City Sun City MacDonald Ranch Clubhouse @ Desert Willow Golf Course
CATEGORIES:Community,Meet Up,Meetings
ORGANIZER;CN="Southern Hills Republican Women":MAILTO:shrwcommunications@gmail.com
END:VEVENT
BEGIN:VEVENT
DTSTART;TZID=America/Los_Angeles:20280523T104500
DTEND;TZID=America/Los_Angeles:20280523T130000
DTSTAMP:20260419T071417
CREATED:20250816T033215Z
LAST-MODIFIED:20250816T033215Z
UID:10008833-1842691500-1842699600@nevadagop.org
SUMMARY:Southern Hills Republican Women Meetings
DESCRIPTION:
URL:https://nevadagop.org/event/southern-hills-republican-women-meetings-6/2028-05-23/
LOCATION:Sun City Sun City MacDonald Ranch Clubhouse @ Desert Willow Golf Course
CATEGORIES:Community,Meet Up,Meetings
ORGANIZER;CN="Southern Hills Republican Women":MAILTO:shrwcommunications@gmail.com
END:VEVENT
BEGIN:VEVENT
DTSTART;TZID=America/Los_Angeles:20280627T104500
DTEND;TZID=America/Los_Angeles:20280627T130000
DTSTAMP:20260419T071417
CREATED:20250816T033215Z
LAST-MODIFIED:20250816T033215Z
UID:10008834-1845715500-1845723600@nevadagop.org
SUMMARY:Southern Hills Republican Women Meetings
DESCRIPTION:
URL:https://nevadagop.org/event/southern-hills-republican-women-meetings-6/2028-06-27/
LOCATION:Sun City Sun City MacDonald Ranch Clubhouse @ Desert Willow Golf Course
CATEGORIES:Community,Meet Up,Meetings
ORGANIZER;CN="Southern Hills Republican Women":MAILTO:shrwcommunications@gmail.com
END:VEVENT
BEGIN:VEVENT
DTSTART;TZID=America/Los_Angeles:20280725T104500
DTEND;TZID=America/Los_Angeles:20280725T130000
DTSTAMP:20260419T071417
CREATED:20250816T033215Z
LAST-MODIFIED:20250816T033215Z
UID:10008835-1848134700-1848142800@nevadagop.org
SUMMARY:Southern Hills Republican Women Meetings
DESCRIPTION:
URL:https://nevadagop.org/event/southern-hills-republican-women-meetings-6/2028-07-25/
LOCATION:Sun City Sun City MacDonald Ranch Clubhouse @ Desert Willow Golf Course
CATEGORIES:Community,Meet Up,Meetings
ORGANIZER;CN="Southern Hills Republican Women":MAILTO:shrwcommunications@gmail.com
END:VEVENT
BEGIN:VEVENT
DTSTART;TZID=America/Los_Angeles:20280822T104500
DTEND;TZID=America/Los_Angeles:20280822T130000
DTSTAMP:20260419T071417
CREATED:20250816T033215Z
LAST-MODIFIED:20250816T033215Z
UID:10008836-1850553900-1850562000@nevadagop.org
SUMMARY:Southern Hills Republican Women Meetings
DESCRIPTION:
URL:https://nevadagop.org/event/southern-hills-republican-women-meetings-6/2028-08-22/
LOCATION:Sun City Sun City MacDonald Ranch Clubhouse @ Desert Willow Golf Course
CATEGORIES:Community,Meet Up,Meetings
ORGANIZER;CN="Southern Hills Republican Women":MAILTO:shrwcommunications@gmail.com
END:VEVENT
BEGIN:VEVENT
DTSTART;TZID=America/Los_Angeles:20280926T104500
DTEND;TZID=America/Los_Angeles:20280926T130000
DTSTAMP:20260419T071417
CREATED:20250816T033215Z
LAST-MODIFIED:20250816T033215Z
UID:10008837-1853577900-1853586000@nevadagop.org
SUMMARY:Southern Hills Republican Women Meetings
DESCRIPTION:
URL:https://nevadagop.org/event/southern-hills-republican-women-meetings-6/2028-09-26/
LOCATION:Sun City Sun City MacDonald Ranch Clubhouse @ Desert Willow Golf Course
CATEGORIES:Community,Meet Up,Meetings
ORGANIZER;CN="Southern Hills Republican Women":MAILTO:shrwcommunications@gmail.com
END:VEVENT
BEGIN:VEVENT
DTSTART;TZID=America/Los_Angeles:20281024T104500
DTEND;TZID=America/Los_Angeles:20281024T130000
DTSTAMP:20260419T071417
CREATED:20250816T033215Z
LAST-MODIFIED:20250816T033215Z
UID:10008838-1855997100-1856005200@nevadagop.org
SUMMARY:Southern Hills Republican Women Meetings
DESCRIPTION:
URL:https://nevadagop.org/event/southern-hills-republican-women-meetings-6/2028-10-24/
LOCATION:Sun City Sun City MacDonald Ranch Clubhouse @ Desert Willow Golf Course
CATEGORIES:Community,Meet Up,Meetings
ORGANIZER;CN="Southern Hills Republican Women":MAILTO:shrwcommunications@gmail.com
END:VEVENT
BEGIN:VEVENT
DTSTART;TZID=America/Los_Angeles:20281128T104500
DTEND;TZID=America/Los_Angeles:20281128T130000
DTSTAMP:20260419T071417
CREATED:20250816T033215Z
LAST-MODIFIED:20250816T033215Z
UID:10008839-1859021100-1859029200@nevadagop.org
SUMMARY:Southern Hills Republican Women Meetings
DESCRIPTION:
URL:https://nevadagop.org/event/southern-hills-republican-women-meetings-6/2028-11-28/
LOCATION:Sun City Sun City MacDonald Ranch Clubhouse @ Desert Willow Golf Course
CATEGORIES:Community,Meet Up,Meetings
ORGANIZER;CN="Southern Hills Republican Women":MAILTO:shrwcommunications@gmail.com
END:VEVENT
BEGIN:VEVENT
DTSTART;TZID=America/Los_Angeles:20281226T104500
DTEND;TZID=America/Los_Angeles:20281226T130000
DTSTAMP:20260419T071417
CREATED:20250816T033215Z
LAST-MODIFIED:20250816T033215Z
UID:10008840-1861440300-1861448400@nevadagop.org
SUMMARY:Southern Hills Republican Women Meetings
DESCRIPTION:
URL:https://nevadagop.org/event/southern-hills-republican-women-meetings-6/2028-12-26/
LOCATION:Sun City Sun City MacDonald Ranch Clubhouse @ Desert Willow Golf Course
CATEGORIES:Community,Meet Up,Meetings
ORGANIZER;CN="Southern Hills Republican Women":MAILTO:shrwcommunications@gmail.com
END:VEVENT
BEGIN:VEVENT
DTSTART;TZID=America/Los_Angeles:20290123T104500
DTEND;TZID=America/Los_Angeles:20290123T130000
DTSTAMP:20260419T071417
CREATED:20250816T033215Z
LAST-MODIFIED:20250816T033215Z
UID:10008841-1863859500-1863867600@nevadagop.org
SUMMARY:Southern Hills Republican Women Meetings
DESCRIPTION:
URL:https://nevadagop.org/event/southern-hills-republican-women-meetings-6/2029-01-23/
LOCATION:Sun City Sun City MacDonald Ranch Clubhouse @ Desert Willow Golf Course
CATEGORIES:Community,Meet Up,Meetings
ORGANIZER;CN="Southern Hills Republican Women":MAILTO:shrwcommunications@gmail.com
END:VEVENT
BEGIN:VEVENT
DTSTART;TZID=America/Los_Angeles:20290227T104500
DTEND;TZID=America/Los_Angeles:20290227T130000
DTSTAMP:20260419T071417
CREATED:20250816T033215Z
LAST-MODIFIED:20250816T033215Z
UID:10008842-1866883500-1866891600@nevadagop.org
SUMMARY:Southern Hills Republican Women Meetings
DESCRIPTION:
URL:https://nevadagop.org/event/southern-hills-republican-women-meetings-6/2029-02-27/
LOCATION:Sun City Sun City MacDonald Ranch Clubhouse @ Desert Willow Golf Course
CATEGORIES:Community,Meet Up,Meetings
ORGANIZER;CN="Southern Hills Republican Women":MAILTO:shrwcommunications@gmail.com
END:VEVENT
BEGIN:VEVENT
DTSTART;TZID=America/Los_Angeles:20290327T104500
DTEND;TZID=America/Los_Angeles:20290327T130000
DTSTAMP:20260419T071417
CREATED:20250816T033215Z
LAST-MODIFIED:20250816T033215Z
UID:10008843-1869302700-1869310800@nevadagop.org
SUMMARY:Southern Hills Republican Women Meetings
DESCRIPTION:
URL:https://nevadagop.org/event/southern-hills-republican-women-meetings-6/2029-03-27/
LOCATION:Sun City Sun City MacDonald Ranch Clubhouse @ Desert Willow Golf Course
CATEGORIES:Community,Meet Up,Meetings
ORGANIZER;CN="Southern Hills Republican Women":MAILTO:shrwcommunications@gmail.com
END:VEVENT
BEGIN:VEVENT
DTSTART;TZID=America/Los_Angeles:20290424T104500
DTEND;TZID=America/Los_Angeles:20290424T130000
DTSTAMP:20260419T071417
CREATED:20250816T033215Z
LAST-MODIFIED:20250816T033215Z
UID:10008844-1871721900-1871730000@nevadagop.org
SUMMARY:Southern Hills Republican Women Meetings
DESCRIPTION:
URL:https://nevadagop.org/event/southern-hills-republican-women-meetings-6/2029-04-24/
LOCATION:Sun City Sun City MacDonald Ranch Clubhouse @ Desert Willow Golf Course
CATEGORIES:Community,Meet Up,Meetings
ORGANIZER;CN="Southern Hills Republican Women":MAILTO:shrwcommunications@gmail.com
END:VEVENT
BEGIN:VEVENT
DTSTART;TZID=America/Los_Angeles:20290522T104500
DTEND;TZID=America/Los_Angeles:20290522T130000
DTSTAMP:20260419T071417
CREATED:20250816T033215Z
LAST-MODIFIED:20250816T033215Z
UID:10008845-1874141100-1874149200@nevadagop.org
SUMMARY:Southern Hills Republican Women Meetings
DESCRIPTION:
URL:https://nevadagop.org/event/southern-hills-republican-women-meetings-6/2029-05-22/
LOCATION:Sun City Sun City MacDonald Ranch Clubhouse @ Desert Willow Golf Course
CATEGORIES:Community,Meet Up,Meetings
ORGANIZER;CN="Southern Hills Republican Women":MAILTO:shrwcommunications@gmail.com
END:VEVENT
BEGIN:VEVENT
DTSTART;TZID=America/Los_Angeles:20290626T104500
DTEND;TZID=America/Los_Angeles:20290626T130000
DTSTAMP:20260419T071417
CREATED:20250816T033215Z
LAST-MODIFIED:20250816T033215Z
UID:10008846-1877165100-1877173200@nevadagop.org
SUMMARY:Southern Hills Republican Women Meetings
DESCRIPTION:
URL:https://nevadagop.org/event/southern-hills-republican-women-meetings-6/2029-06-26/
LOCATION:Sun City Sun City MacDonald Ranch Clubhouse @ Desert Willow Golf Course
CATEGORIES:Community,Meet Up,Meetings
ORGANIZER;CN="Southern Hills Republican Women":MAILTO:shrwcommunications@gmail.com
END:VEVENT
BEGIN:VEVENT
DTSTART;TZID=America/Los_Angeles:20290724T104500
DTEND;TZID=America/Los_Angeles:20290724T130000
DTSTAMP:20260419T071417
CREATED:20250816T033215Z
LAST-MODIFIED:20250816T033215Z
UID:10008847-1879584300-1879592400@nevadagop.org
SUMMARY:Southern Hills Republican Women Meetings
DESCRIPTION:
URL:https://nevadagop.org/event/southern-hills-republican-women-meetings-6/2029-07-24/
LOCATION:Sun City Sun City MacDonald Ranch Clubhouse @ Desert Willow Golf Course
CATEGORIES:Community,Meet Up,Meetings
ORGANIZER;CN="Southern Hills Republican Women":MAILTO:shrwcommunications@gmail.com
END:VEVENT
BEGIN:VEVENT
DTSTART;TZID=America/Los_Angeles:20290828T104500
DTEND;TZID=America/Los_Angeles:20290828T130000
DTSTAMP:20260419T071417
CREATED:20250816T033215Z
LAST-MODIFIED:20250816T033215Z
UID:10008848-1882608300-1882616400@nevadagop.org
SUMMARY:Southern Hills Republican Women Meetings
DESCRIPTION:
URL:https://nevadagop.org/event/southern-hills-republican-women-meetings-6/2029-08-28/
LOCATION:Sun City Sun City MacDonald Ranch Clubhouse @ Desert Willow Golf Course
CATEGORIES:Community,Meet Up,Meetings
ORGANIZER;CN="Southern Hills Republican Women":MAILTO:shrwcommunications@gmail.com
END:VEVENT
BEGIN:VEVENT
DTSTART;TZID=America/Los_Angeles:20290925T104500
DTEND;TZID=America/Los_Angeles:20290925T130000
DTSTAMP:20260419T071417
CREATED:20250816T033215Z
LAST-MODIFIED:20250816T033215Z
UID:10008849-1885027500-1885035600@nevadagop.org
SUMMARY:Southern Hills Republican Women Meetings
DESCRIPTION:
URL:https://nevadagop.org/event/southern-hills-republican-women-meetings-6/2029-09-25/
LOCATION:Sun City Sun City MacDonald Ranch Clubhouse @ Desert Willow Golf Course
CATEGORIES:Community,Meet Up,Meetings
ORGANIZER;CN="Southern Hills Republican Women":MAILTO:shrwcommunications@gmail.com
END:VEVENT
END:VCALENDAR