BEGIN:VCALENDAR
VERSION:2.0
PRODID:-//Nevada Republican Party - ECPv6.15.20//NONSGML v1.0//EN
CALSCALE:GREGORIAN
METHOD:PUBLISH
X-WR-CALNAME:Nevada Republican Party
X-ORIGINAL-URL:https://nevadagop.org
X-WR-CALDESC:Events for Nevada Republican Party
REFRESH-INTERVAL;VALUE=DURATION:PT1H
X-Robots-Tag:noindex
X-PUBLISHED-TTL:PT1H
BEGIN:VTIMEZONE
TZID:America/Los_Angeles
BEGIN:DAYLIGHT
TZOFFSETFROM:-0800
TZOFFSETTO:-0700
TZNAME:PDT
DTSTART:20190310T100000
END:DAYLIGHT
BEGIN:STANDARD
TZOFFSETFROM:-0700
TZOFFSETTO:-0800
TZNAME:PST
DTSTART:20191103T090000
END:STANDARD
BEGIN:DAYLIGHT
TZOFFSETFROM:-0800
TZOFFSETTO:-0700
TZNAME:PDT
DTSTART:20200308T100000
END:DAYLIGHT
BEGIN:STANDARD
TZOFFSETFROM:-0700
TZOFFSETTO:-0800
TZNAME:PST
DTSTART:20201101T090000
END:STANDARD
BEGIN:DAYLIGHT
TZOFFSETFROM:-0800
TZOFFSETTO:-0700
TZNAME:PDT
DTSTART:20210314T100000
END:DAYLIGHT
BEGIN:STANDARD
TZOFFSETFROM:-0700
TZOFFSETTO:-0800
TZNAME:PST
DTSTART:20211107T090000
END:STANDARD
END:VTIMEZONE
BEGIN:VEVENT
DTSTART;TZID=America/Los_Angeles:20201004T100000
DTEND;TZID=America/Los_Angeles:20201004T120000
DTSTAMP:20260419T161302
CREATED:20201003T041559Z
LAST-MODIFIED:20201003T041559Z
UID:10004646-1601805600-1601812800@nevadagop.org
SUMMARY:Summerlin\, Nevada - Door Knocking
DESCRIPTION:ROCK THE KNOCK IN NEVADA!  \nJoin volunteers in your community for a day of door knocking and voter contact. We must turn Nevada RED and get President Trump re-elected this November. We need your help to contact as many voters as possible to talk to them about the successes of this administration and the failures of the left. The Trump Victory 2020 campaign will be knocking doors\, October 4\, 2020 in Summerlin\, we will deploy from the Sahara Library! Join us and fellow Trump Victory supporters to help re-elect President Donald J. Trump and Republicans! Your support is crucial to Keeping America Great in 2020. \n#LeadRight
URL:https://nevadagop.org/event/summerlin-nevada-door-knocking-2/
LOCATION:Sahara West Library\, 9600 W Sahara Ave.\, Las Vegas\, NV\, 89117\, United States
CATEGORIES:Door Knocking
END:VEVENT
BEGIN:VEVENT
DTSTART;TZID=America/Los_Angeles:20201004T100000
DTEND;TZID=America/Los_Angeles:20201004T120000
DTSTAMP:20260419T161302
CREATED:20201003T041559Z
LAST-MODIFIED:20201003T041559Z
UID:10006606-1601805600-1601812800@nevadagop.org
SUMMARY:Summerlin\, Nevada - Door Knocking
DESCRIPTION:ROCK THE KNOCK IN NEVADA!  \nJoin volunteers in your community for a day of door knocking and voter contact. We must turn Nevada RED and get President Trump re-elected this November. We need your help to contact as many voters as possible to talk to them about the successes of this administration and the failures of the left. The Trump Victory 2020 campaign will be knocking doors\, October 4\, 2020 in Summerlin\, we will deploy from the Sahara Library! Join us and fellow Trump Victory supporters to help re-elect President Donald J. Trump and Republicans! Your support is crucial to Keeping America Great in 2020. \n#LeadRight
URL:https://nevadagop.org/event/summerlin-nevada-door-knocking-2-2/
LOCATION:Sahara West Library\, 9600 W Sahara Ave.\, Las Vegas\, NV\, 89117\, United States
CATEGORIES:Door Knocking
END:VEVENT
BEGIN:VEVENT
DTSTART;TZID=America/Los_Angeles:20200228T153000
DTEND;TZID=America/Los_Angeles:20200228T173000
DTSTAMP:20260419T161302
CREATED:20200226T160112Z
LAST-MODIFIED:20200229T160252Z
UID:10004080-1582903800-1582911000@nevadagop.org
SUMMARY:Trump Victory Leadership Initiative Training - Las Vegas
DESCRIPTION:Want to make a positive impact in your community? Come learn how to register new Republican voters at our upcoming workshop in Las Vegas! \nJoin our Trump Victory Voter Registration Workshop on Friday\, February 28th. We’ll train you on how to register new Republican voters and showcase how we’re going to re-elect President Trump and elect Republicans up and down the ticket in 2020. \nIn 2020\, we must work together and register new Republican voters across Nevada! This training is being held by Trump Victory and the Nevada GOP
URL:https://nevadagop.org/event/trump-victory-leadership-initiative-training-las-vegas-5/
LOCATION:Sahara West Library\, 9600 W Sahara Ave.\, Las Vegas\, NV\, 89117\, United States
CATEGORIES:TVLI,Voter Registration Drive,Voter Registration Training
END:VEVENT
BEGIN:VEVENT
DTSTART;TZID=America/Los_Angeles:20200228T153000
DTEND;TZID=America/Los_Angeles:20200228T173000
DTSTAMP:20260419T161302
CREATED:20200226T160112Z
LAST-MODIFIED:20200226T160112Z
UID:10004837-1582903800-1582911000@nevadagop.org
SUMMARY:Trump Victory Leadership Initiative Training - Las Vegas
DESCRIPTION:Want to make a positive impact in your community? Come learn how to register new Republican voters at our upcoming workshop in Las Vegas! \nJoin our Trump Victory Voter Registration Workshop on Friday\, February 28th. We’ll train you on how to register new Republican voters and showcase how we’re going to re-elect President Trump and elect Republicans up and down the ticket in 2020. \nIn 2020\, we must work together and register new Republican voters across Nevada! This training is being held by Trump Victory and the Nevada GOP
URL:https://nevadagop.org/event/trump-victory-leadership-initiative-training-las-vegas-5-2/
LOCATION:Sahara West Library\, 9600 W Sahara Ave.\, Las Vegas\, NV\, 89117\, United States
CATEGORIES:TVLI,Voter Registration Drive,Voter Registration Training
END:VEVENT
BEGIN:VEVENT
DTSTART;TZID=America/Los_Angeles:20200227T120000
DTEND;TZID=America/Los_Angeles:20200227T143000
DTSTAMP:20260419T161302
CREATED:20200226T155639Z
LAST-MODIFIED:20200229T155905Z
UID:10004079-1582804800-1582813800@nevadagop.org
SUMMARY:Trump Victory Leadership Initiative Training - Las Vegas
DESCRIPTION:Want to make a positive impact in your community? Come learn how to register new Republican voters at our upcoming workshop in Las Vegas! \nJoin our Trump Victory Voter Registration Workshop on Thursday\, February 27th. We’ll train you on how to register new Republican voters and showcase how we’re going to re-elect President Trump and elect Republicans up and down the ticket in 2020. \nIn 2020\, we must work together and register new Republican voters across Nevada! This training is being held by Trump Victory and the Nevada GOP
URL:https://nevadagop.org/event/trump-victory-leadership-initiative-training-las-vegas-4/
LOCATION:Sahara West Library\, 9600 W Sahara Ave.\, Las Vegas\, NV\, 89117\, United States
CATEGORIES:TVLI,Voter Registration Drive,Voter Registration Training
END:VEVENT
BEGIN:VEVENT
DTSTART;TZID=America/Los_Angeles:20200227T120000
DTEND;TZID=America/Los_Angeles:20200227T143000
DTSTAMP:20260419T161302
CREATED:20200226T155639Z
LAST-MODIFIED:20200226T155639Z
UID:10004835-1582804800-1582813800@nevadagop.org
SUMMARY:Trump Victory Leadership Initiative Training - Las Vegas
DESCRIPTION:Want to make a positive impact in your community? Come learn how to register new Republican voters at our upcoming workshop in Las Vegas! \nJoin our Trump Victory Voter Registration Workshop on Thursday\, February 27th. We’ll train you on how to register new Republican voters and showcase how we’re going to re-elect President Trump and elect Republicans up and down the ticket in 2020. \nIn 2020\, we must work together and register new Republican voters across Nevada! This training is being held by Trump Victory and the Nevada GOP
URL:https://nevadagop.org/event/trump-victory-leadership-initiative-training-las-vegas-4-2/
LOCATION:Sahara West Library\, 9600 W Sahara Ave.\, Las Vegas\, NV\, 89117\, United States
CATEGORIES:TVLI,Voter Registration Drive,Voter Registration Training
END:VEVENT
BEGIN:VEVENT
DTSTART;TZID=America/Los_Angeles:20200115T183000
DTEND;TZID=America/Los_Angeles:20200115T200000
DTSTAMP:20260419T161302
CREATED:20200114T183423Z
LAST-MODIFIED:20200114T183423Z
UID:10004047-1579113000-1579118400@nevadagop.org
SUMMARY:Trump Victory Leadership Initiative\, Summerlin
DESCRIPTION:2020 is officially here! \nWant to make a positive impact in your community? Come learn how to register new Republican voters at our upcoming workshop and National Day of Action! \nJoin our Trump Victory Voter Registration Workshop on January 15th. We’ll train you on how to register new Republican voters and showcase how we’re going to re-elect President Trump and elect Republicans up and down the ticket in 2020. \nIn 2020\, we must work together and register new Republican voters across Nevada! This training is being held by Trump Victory and the Nevada GOP.
URL:https://nevadagop.org/event/trump-victory-leadership-initiative-summerlin/
LOCATION:Sahara West Library\, 9600 W Sahara Ave.\, Las Vegas\, NV\, 89117\, United States
CATEGORIES:Voter Registration Training
END:VEVENT
BEGIN:VEVENT
DTSTART;TZID=America/Los_Angeles:20200115T183000
DTEND;TZID=America/Los_Angeles:20200115T200000
DTSTAMP:20260419T161302
CREATED:20200114T183423Z
LAST-MODIFIED:20200114T183423Z
UID:10006303-1579113000-1579118400@nevadagop.org
SUMMARY:Trump Victory Leadership Initiative\, Summerlin
DESCRIPTION:2020 is officially here! \nWant to make a positive impact in your community? Come learn how to register new Republican voters at our upcoming workshop and National Day of Action! \nJoin our Trump Victory Voter Registration Workshop on January 15th. We’ll train you on how to register new Republican voters and showcase how we’re going to re-elect President Trump and elect Republicans up and down the ticket in 2020. \nIn 2020\, we must work together and register new Republican voters across Nevada! This training is being held by Trump Victory and the Nevada GOP.
URL:https://nevadagop.org/event/trump-victory-leadership-initiative-summerlin-2/
LOCATION:Sahara West Library\, 9600 W Sahara Ave.\, Las Vegas\, NV\, 89117\, United States
CATEGORIES:Voter Registration Training
END:VEVENT
END:VCALENDAR