BEGIN:VCALENDAR
VERSION:2.0
PRODID:-//Nevada Republican Party - ECPv6.15.20//NONSGML v1.0//EN
CALSCALE:GREGORIAN
METHOD:PUBLISH
X-ORIGINAL-URL:https://nevadagop.org
X-WR-CALDESC:Events for Nevada Republican Party
REFRESH-INTERVAL;VALUE=DURATION:PT1H
X-Robots-Tag:noindex
X-PUBLISHED-TTL:PT1H
BEGIN:VTIMEZONE
TZID:America/Los_Angeles
BEGIN:DAYLIGHT
TZOFFSETFROM:-0800
TZOFFSETTO:-0700
TZNAME:PDT
DTSTART:20180311T100000
END:DAYLIGHT
BEGIN:STANDARD
TZOFFSETFROM:-0700
TZOFFSETTO:-0800
TZNAME:PST
DTSTART:20181104T090000
END:STANDARD
BEGIN:DAYLIGHT
TZOFFSETFROM:-0800
TZOFFSETTO:-0700
TZNAME:PDT
DTSTART:20190310T100000
END:DAYLIGHT
BEGIN:STANDARD
TZOFFSETFROM:-0700
TZOFFSETTO:-0800
TZNAME:PST
DTSTART:20191103T090000
END:STANDARD
BEGIN:DAYLIGHT
TZOFFSETFROM:-0800
TZOFFSETTO:-0700
TZNAME:PDT
DTSTART:20200308T100000
END:DAYLIGHT
BEGIN:STANDARD
TZOFFSETFROM:-0700
TZOFFSETTO:-0800
TZNAME:PST
DTSTART:20201101T090000
END:STANDARD
BEGIN:DAYLIGHT
TZOFFSETFROM:-0800
TZOFFSETTO:-0700
TZNAME:PDT
DTSTART:20210314T100000
END:DAYLIGHT
BEGIN:STANDARD
TZOFFSETFROM:-0700
TZOFFSETTO:-0800
TZNAME:PST
DTSTART:20211107T090000
END:STANDARD
BEGIN:DAYLIGHT
TZOFFSETFROM:-0800
TZOFFSETTO:-0700
TZNAME:PDT
DTSTART:20220313T100000
END:DAYLIGHT
BEGIN:STANDARD
TZOFFSETFROM:-0700
TZOFFSETTO:-0800
TZNAME:PST
DTSTART:20221106T090000
END:STANDARD
BEGIN:DAYLIGHT
TZOFFSETFROM:-0800
TZOFFSETTO:-0700
TZNAME:PDT
DTSTART:20230312T100000
END:DAYLIGHT
BEGIN:STANDARD
TZOFFSETFROM:-0700
TZOFFSETTO:-0800
TZNAME:PST
DTSTART:20231105T090000
END:STANDARD
END:VTIMEZONE
BEGIN:VEVENT
DTSTART;TZID=America/Los_Angeles:20220526T180000
DTEND;TZID=America/Los_Angeles:20220526T200000
DTSTAMP:20260420T052438
CREATED:20220520T100958Z
LAST-MODIFIED:20220520T100958Z
UID:10005997-1653588000-1653595200@nevadagop.org
SUMMARY:Gilbert for Governor - Meet & Greet
DESCRIPTION:
URL:https://nevadagop.org/event/gilbert-for-governor-meet-greet-2/
LOCATION:Private Home
CATEGORIES:Candidate Event
END:VEVENT
BEGIN:VEVENT
DTSTART;TZID=America/Los_Angeles:20220127T180000
DTEND;TZID=America/Los_Angeles:20220127T200000
DTSTAMP:20260420T052438
CREATED:20220121T071140Z
LAST-MODIFIED:20220121T071140Z
UID:10007165-1643306400-1643313600@nevadagop.org
SUMMARY:Dr. John Petrick for Assembly District 21 - Meet & Greet
DESCRIPTION:
URL:https://nevadagop.org/event/dr-john-petrick-for-assembly-district-21-meet-greet/
LOCATION:Private Home
CATEGORIES:Candidate Event
END:VEVENT
BEGIN:VEVENT
DTSTART;TZID=America/Los_Angeles:20210926T140000
DTEND;TZID=America/Los_Angeles:20210926T170000
DTSTAMP:20260420T052438
CREATED:20210918T171050Z
LAST-MODIFIED:20210918T171050Z
UID:10004904-1632664800-1632675600@nevadagop.org
SUMMARY:Lisa Krasner for Senate Fundraiser
DESCRIPTION:This information is being shared as a courtesy. It is not an endorsement from the Nevada Republican Party
URL:https://nevadagop.org/event/lisa-krasner-for-senate-fundraiser/
LOCATION:Private Home
CATEGORIES:Candidate Event
END:VEVENT
BEGIN:VEVENT
DTSTART;TZID=America/Los_Angeles:20190920T173000
DTEND;TZID=America/Los_Angeles:20190920T203000
DTSTAMP:20260420T052438
CREATED:20190910T160426Z
LAST-MODIFIED:20190911T152103Z
UID:10004244-1569000600-1569011400@nevadagop.org
SUMMARY:Mt. Rose Republican Women Dinner
DESCRIPTION:Join Mt. Rose Republican Women for our\nSeptember 20th Fundraising Dinner\n***** Location Change ****** \n \n  \nRegistration at 5:30 / Dinner at 6:00\nIf you want to prepay\, please RSVP using the following:\nhttps://squareup.com/market/mt-rose-republican-women \nRSVP NO LATER THAN \nWednesday September 18th RSVP to mrrwdinnerrsvp@gmail.com\nOr Call Pam Benzing at   775-224-0752
URL:https://nevadagop.org/event/mt-rose-republican-women-dinner/
LOCATION:Private Home
CATEGORIES:Fundraising
END:VEVENT
BEGIN:VEVENT
DTSTART;TZID=America/Los_Angeles:20190920T173000
DTEND;TZID=America/Los_Angeles:20190920T203000
DTSTAMP:20260420T052438
CREATED:20190910T160426Z
LAST-MODIFIED:20190910T160426Z
UID:10005976-1569000600-1569011400@nevadagop.org
SUMMARY:Mt. Rose Republican Women Dinner
DESCRIPTION:Join Mt. Rose Republican Women for our\nSeptember 20th Fundraising Dinner\n***** Location Change ****** \n \n  \nRegistration at 5:30 / Dinner at 6:00\nIf you want to prepay\, please RSVP using the following:\nhttps://squareup.com/market/mt-rose-republican-women \nRSVP NO LATER THAN \nWednesday September 18th RSVP to mrrwdinnerrsvp@gmail.com\nOr Call Pam Benzing at   775-224-0752
URL:https://nevadagop.org/event/mt-rose-republican-women-dinner-2/
LOCATION:Private Home
CATEGORIES:Fundraising
END:VEVENT
END:VCALENDAR