BEGIN:VCALENDAR
VERSION:2.0
PRODID:-//Nevada Republican Party - ECPv6.15.20//NONSGML v1.0//EN
CALSCALE:GREGORIAN
METHOD:PUBLISH
X-WR-CALNAME:Nevada Republican Party
X-ORIGINAL-URL:https://nevadagop.org
X-WR-CALDESC:Events for Nevada Republican Party
REFRESH-INTERVAL;VALUE=DURATION:PT1H
X-Robots-Tag:noindex
X-PUBLISHED-TTL:PT1H
BEGIN:VTIMEZONE
TZID:America/Los_Angeles
BEGIN:DAYLIGHT
TZOFFSETFROM:-0800
TZOFFSETTO:-0700
TZNAME:PDT
DTSTART:20190310T100000
END:DAYLIGHT
BEGIN:STANDARD
TZOFFSETFROM:-0700
TZOFFSETTO:-0800
TZNAME:PST
DTSTART:20191103T090000
END:STANDARD
BEGIN:DAYLIGHT
TZOFFSETFROM:-0800
TZOFFSETTO:-0700
TZNAME:PDT
DTSTART:20200308T100000
END:DAYLIGHT
BEGIN:STANDARD
TZOFFSETFROM:-0700
TZOFFSETTO:-0800
TZNAME:PST
DTSTART:20201101T090000
END:STANDARD
BEGIN:DAYLIGHT
TZOFFSETFROM:-0800
TZOFFSETTO:-0700
TZNAME:PDT
DTSTART:20210314T100000
END:DAYLIGHT
BEGIN:STANDARD
TZOFFSETFROM:-0700
TZOFFSETTO:-0800
TZNAME:PST
DTSTART:20211107T090000
END:STANDARD
BEGIN:DAYLIGHT
TZOFFSETFROM:-0800
TZOFFSETTO:-0700
TZNAME:PDT
DTSTART:20220313T100000
END:DAYLIGHT
BEGIN:STANDARD
TZOFFSETFROM:-0700
TZOFFSETTO:-0800
TZNAME:PST
DTSTART:20221106T090000
END:STANDARD
BEGIN:DAYLIGHT
TZOFFSETFROM:-0800
TZOFFSETTO:-0700
TZNAME:PDT
DTSTART:20230312T100000
END:DAYLIGHT
BEGIN:STANDARD
TZOFFSETFROM:-0700
TZOFFSETTO:-0800
TZNAME:PST
DTSTART:20231105T090000
END:STANDARD
END:VTIMEZONE
BEGIN:VEVENT
DTSTART;TZID=America/Los_Angeles:20220205T170000
DTEND;TZID=America/Los_Angeles:20220205T213000
DTSTAMP:20260419T204104
CREATED:20211125T163350Z
LAST-MODIFIED:20220204T181649Z
UID:10006851-1644080400-1644096600@nevadagop.org
SUMMARY:Lyon County Lincoln Day Dinner
DESCRIPTION:
URL:https://nevadagop.org/event/lyon-county-lincoln-day-dinner-2/
LOCATION:Pioneer Crossing Casino/Convention\, 11 North Main Street\, Yerington\, NV\, 89447\, United States
CATEGORIES:Lincoln Day Event
END:VEVENT
BEGIN:VEVENT
DTSTART;TZID=America/Los_Angeles:20200201T170000
DTEND;TZID=America/Los_Angeles:20200201T213000
DTSTAMP:20260419T204104
CREATED:20191027T194137Z
LAST-MODIFIED:20200106T191848Z
UID:10004347-1580576400-1580592600@nevadagop.org
SUMMARY:Lyon County Lincoln Day Dinner
DESCRIPTION:  \nA CHANCE TO TALK WITH YOUR STATE AND LOCAL REPUBLICAN REPRESENTATIVES\, ENJOY FINE DINING AND MEET NEW FRIENDS THAT ARE POLITICALLY INVOLVED.\n  \nREPUBLICAN PARTY INVOLVMENT STARTS HERE!!
URL:https://nevadagop.org/event/lincoln-county-lincoln-day-dinner/
LOCATION:Pioneer Crossing Casino/Convention\, 11 North Main Street\, Yerington\, NV\, 89447\, United States
CATEGORIES:Lincoln Day Event
END:VEVENT
BEGIN:VEVENT
DTSTART;TZID=America/Los_Angeles:20200201T170000
DTEND;TZID=America/Los_Angeles:20200201T213000
DTSTAMP:20260419T204104
CREATED:20191027T194137Z
LAST-MODIFIED:20191027T194137Z
UID:10006253-1580576400-1580592600@nevadagop.org
SUMMARY:Lyon County Lincoln Day Dinner
DESCRIPTION:  \nA CHANCE TO TALK WITH YOUR STATE AND LOCAL REPUBLICAN REPRESENTATIVES\, ENJOY FINE DINING AND MEET NEW FRIENDS THAT ARE POLITICALLY INVOLVED.\n  \nREPUBLICAN PARTY INVOLVMENT STARTS HERE!!
URL:https://nevadagop.org/event/lincoln-county-lincoln-day-dinner-2/
LOCATION:Pioneer Crossing Casino/Convention\, 11 North Main Street\, Yerington\, NV\, 89447\, United States
CATEGORIES:Lincoln Day Event
END:VEVENT
END:VCALENDAR