BEGIN:VCALENDAR
VERSION:2.0
PRODID:-//Nevada Republican Party - ECPv6.15.20//NONSGML v1.0//EN
CALSCALE:GREGORIAN
METHOD:PUBLISH
X-ORIGINAL-URL:https://nevadagop.org
X-WR-CALDESC:Events for Nevada Republican Party
REFRESH-INTERVAL;VALUE=DURATION:PT1H
X-Robots-Tag:noindex
X-PUBLISHED-TTL:PT1H
BEGIN:VTIMEZONE
TZID:America/Los_Angeles
BEGIN:DAYLIGHT
TZOFFSETFROM:-0800
TZOFFSETTO:-0700
TZNAME:PDT
DTSTART:20190310T100000
END:DAYLIGHT
BEGIN:STANDARD
TZOFFSETFROM:-0700
TZOFFSETTO:-0800
TZNAME:PST
DTSTART:20191103T090000
END:STANDARD
BEGIN:DAYLIGHT
TZOFFSETFROM:-0800
TZOFFSETTO:-0700
TZNAME:PDT
DTSTART:20200308T100000
END:DAYLIGHT
BEGIN:STANDARD
TZOFFSETFROM:-0700
TZOFFSETTO:-0800
TZNAME:PST
DTSTART:20201101T090000
END:STANDARD
BEGIN:DAYLIGHT
TZOFFSETFROM:-0800
TZOFFSETTO:-0700
TZNAME:PDT
DTSTART:20210314T100000
END:DAYLIGHT
BEGIN:STANDARD
TZOFFSETFROM:-0700
TZOFFSETTO:-0800
TZNAME:PST
DTSTART:20211107T090000
END:STANDARD
END:VTIMEZONE
BEGIN:VEVENT
DTSTART;TZID=America/Los_Angeles:20200227T173000
DTEND;TZID=America/Los_Angeles:20200227T193000
DTSTAMP:20260419T203038
CREATED:20200226T161012Z
LAST-MODIFIED:20200229T161228Z
UID:10004553-1582824600-1582831800@nevadagop.org
SUMMARY:Trump Victory Leadership Initiative Training - Paradise
DESCRIPTION:Want to make a positive impact in your community? Come learn how to register new Republican voters at our upcoming workshop in Paradise! \nJoin our Trump Victory Voter Registration Workshop on Thursday\, February 27th. We’ll train you on how to register new Republican voters and showcase how we’re going to re-elect President Trump and elect Republicans up and down the ticket in 2020. \nIn 2020\, we must work together and register new Republican voters across Nevada! This training is being held by Trump Victory and the Nevada GOP
URL:https://nevadagop.org/event/trump-victory-leadership-initiative-training-paradise/
LOCATION:Community Room\, 5075 Newport Cove Dr.\, Paradise\, Nevada\, 89119
CATEGORIES:TVLI,Voter Registration Drive,Voter Registration Training
END:VEVENT
BEGIN:VEVENT
DTSTART;TZID=America/Los_Angeles:20200227T173000
DTEND;TZID=America/Los_Angeles:20200227T193000
DTSTAMP:20260419T203038
CREATED:20200226T161012Z
LAST-MODIFIED:20200226T161012Z
UID:10006476-1582824600-1582831800@nevadagop.org
SUMMARY:Trump Victory Leadership Initiative Training - Paradise
DESCRIPTION:Want to make a positive impact in your community? Come learn how to register new Republican voters at our upcoming workshop in Paradise! \nJoin our Trump Victory Voter Registration Workshop on Thursday\, February 27th. We’ll train you on how to register new Republican voters and showcase how we’re going to re-elect President Trump and elect Republicans up and down the ticket in 2020. \nIn 2020\, we must work together and register new Republican voters across Nevada! This training is being held by Trump Victory and the Nevada GOP
URL:https://nevadagop.org/event/trump-victory-leadership-initiative-training-paradise-2/
LOCATION:Community Room\, 5075 Newport Cove Dr.\, Paradise\, Nevada\, 89119
CATEGORIES:TVLI,Voter Registration Drive,Voter Registration Training
END:VEVENT
END:VCALENDAR