BEGIN:VCALENDAR
VERSION:2.0
PRODID:-//Nevada Republican Party - ECPv6.15.20//NONSGML v1.0//EN
CALSCALE:GREGORIAN
METHOD:PUBLISH
X-ORIGINAL-URL:https://nevadagop.org
X-WR-CALDESC:Events for Nevada Republican Party
REFRESH-INTERVAL;VALUE=DURATION:PT1H
X-Robots-Tag:noindex
X-PUBLISHED-TTL:PT1H
BEGIN:VTIMEZONE
TZID:America/Los_Angeles
BEGIN:DAYLIGHT
TZOFFSETFROM:-0800
TZOFFSETTO:-0700
TZNAME:PDT
DTSTART:20190310T100000
END:DAYLIGHT
BEGIN:STANDARD
TZOFFSETFROM:-0700
TZOFFSETTO:-0800
TZNAME:PST
DTSTART:20191103T090000
END:STANDARD
BEGIN:DAYLIGHT
TZOFFSETFROM:-0800
TZOFFSETTO:-0700
TZNAME:PDT
DTSTART:20200308T100000
END:DAYLIGHT
BEGIN:STANDARD
TZOFFSETFROM:-0700
TZOFFSETTO:-0800
TZNAME:PST
DTSTART:20201101T090000
END:STANDARD
BEGIN:DAYLIGHT
TZOFFSETFROM:-0800
TZOFFSETTO:-0700
TZNAME:PDT
DTSTART:20210314T100000
END:DAYLIGHT
BEGIN:STANDARD
TZOFFSETFROM:-0700
TZOFFSETTO:-0800
TZNAME:PST
DTSTART:20211107T090000
END:STANDARD
END:VTIMEZONE
BEGIN:VEVENT
DTSTART;TZID=America/Los_Angeles:20200215T140000
DTEND;TZID=America/Los_Angeles:20200215T170000
DTSTAMP:20260419T190447
CREATED:20200131T174720Z
LAST-MODIFIED:20200131T174720Z
UID:10004067-1581775200-1581786000@nevadagop.org
SUMMARY:AAPI Trump Victory Leadership Initiative Training - Las Vegas
DESCRIPTION:Come join us for the 1st ever Asian American and Pacific Islander TVLI Workshop in 2020\, on February 15th at 2pm! This workshop will detail AAPI growth and success under the current administration and will give volunteers the tools to engage voters\, conduct voter registration events\, and turn Nevada back to Red! We will have light refreshments and appetizers prior to the training.
URL:https://nevadagop.org/event/aapi-trump-victory-leadership-initiative-training-las-vegas/
LOCATION:Campbell Jones Cohen CPAs\, 6920 S Cimarron Rd #100\, Las Vegas\, NV\, 89113\, United States
CATEGORIES:TVLI,Voter Registration Training
END:VEVENT
BEGIN:VEVENT
DTSTART;TZID=America/Los_Angeles:20200215T140000
DTEND;TZID=America/Los_Angeles:20200215T170000
DTSTAMP:20260419T190447
CREATED:20200131T174720Z
LAST-MODIFIED:20200131T174720Z
UID:10006459-1581775200-1581786000@nevadagop.org
SUMMARY:AAPI Trump Victory Leadership Initiative Training - Las Vegas
DESCRIPTION:Come join us for the 1st ever Asian American and Pacific Islander TVLI Workshop in 2020\, on February 15th at 2pm! This workshop will detail AAPI growth and success under the current administration and will give volunteers the tools to engage voters\, conduct voter registration events\, and turn Nevada back to Red! We will have light refreshments and appetizers prior to the training.
URL:https://nevadagop.org/event/aapi-trump-victory-leadership-initiative-training-las-vegas-2/
LOCATION:Campbell Jones Cohen CPAs\, 6920 S Cimarron Rd #100\, Las Vegas\, NV\, 89113\, United States
CATEGORIES:TVLI,Voter Registration Training
END:VEVENT
END:VCALENDAR