BEGIN:VCALENDAR
VERSION:2.0
PRODID:-//Nevada Republican Party - ECPv6.15.20//NONSGML v1.0//EN
CALSCALE:GREGORIAN
METHOD:PUBLISH
X-ORIGINAL-URL:https://nevadagop.org
X-WR-CALDESC:Events for Nevada Republican Party
REFRESH-INTERVAL;VALUE=DURATION:PT1H
X-Robots-Tag:noindex
X-PUBLISHED-TTL:PT1H
BEGIN:VTIMEZONE
TZID:America/Los_Angeles
BEGIN:DAYLIGHT
TZOFFSETFROM:-0800
TZOFFSETTO:-0700
TZNAME:PDT
DTSTART:20190310T100000
END:DAYLIGHT
BEGIN:STANDARD
TZOFFSETFROM:-0700
TZOFFSETTO:-0800
TZNAME:PST
DTSTART:20191103T090000
END:STANDARD
BEGIN:DAYLIGHT
TZOFFSETFROM:-0800
TZOFFSETTO:-0700
TZNAME:PDT
DTSTART:20200308T100000
END:DAYLIGHT
BEGIN:STANDARD
TZOFFSETFROM:-0700
TZOFFSETTO:-0800
TZNAME:PST
DTSTART:20201101T090000
END:STANDARD
BEGIN:DAYLIGHT
TZOFFSETFROM:-0800
TZOFFSETTO:-0700
TZNAME:PDT
DTSTART:20210314T100000
END:DAYLIGHT
BEGIN:STANDARD
TZOFFSETFROM:-0700
TZOFFSETTO:-0800
TZNAME:PST
DTSTART:20211107T090000
END:STANDARD
BEGIN:DAYLIGHT
TZOFFSETFROM:-0800
TZOFFSETTO:-0700
TZNAME:PDT
DTSTART:20220313T100000
END:DAYLIGHT
BEGIN:STANDARD
TZOFFSETFROM:-0700
TZOFFSETTO:-0800
TZNAME:PST
DTSTART:20221106T090000
END:STANDARD
BEGIN:DAYLIGHT
TZOFFSETFROM:-0800
TZOFFSETTO:-0700
TZNAME:PDT
DTSTART:20230312T100000
END:DAYLIGHT
BEGIN:STANDARD
TZOFFSETFROM:-0700
TZOFFSETTO:-0800
TZNAME:PST
DTSTART:20231105T090000
END:STANDARD
BEGIN:DAYLIGHT
TZOFFSETFROM:-0800
TZOFFSETTO:-0700
TZNAME:PDT
DTSTART:20240310T100000
END:DAYLIGHT
BEGIN:STANDARD
TZOFFSETFROM:-0700
TZOFFSETTO:-0800
TZNAME:PST
DTSTART:20241103T090000
END:STANDARD
BEGIN:DAYLIGHT
TZOFFSETFROM:-0800
TZOFFSETTO:-0700
TZNAME:PDT
DTSTART:20250309T100000
END:DAYLIGHT
BEGIN:STANDARD
TZOFFSETFROM:-0700
TZOFFSETTO:-0800
TZNAME:PST
DTSTART:20251102T090000
END:STANDARD
BEGIN:DAYLIGHT
TZOFFSETFROM:-0800
TZOFFSETTO:-0700
TZNAME:PDT
DTSTART:20260308T100000
END:DAYLIGHT
BEGIN:STANDARD
TZOFFSETFROM:-0700
TZOFFSETTO:-0800
TZNAME:PST
DTSTART:20261101T090000
END:STANDARD
BEGIN:DAYLIGHT
TZOFFSETFROM:-0800
TZOFFSETTO:-0700
TZNAME:PDT
DTSTART:20270314T100000
END:DAYLIGHT
BEGIN:STANDARD
TZOFFSETFROM:-0700
TZOFFSETTO:-0800
TZNAME:PST
DTSTART:20271107T090000
END:STANDARD
END:VTIMEZONE
BEGIN:VEVENT
DTSTART;TZID=America/Los_Angeles:20260315T120000
DTEND;TZID=America/Los_Angeles:20260315T160000
DTSTAMP:20260419T060002
CREATED:20250712T195644Z
LAST-MODIFIED:20260130T171019Z
UID:10008789-1773576000-1773590400@nevadagop.org
SUMMARY:White Pine County Lincoln Day Brunch
DESCRIPTION:
URL:https://nevadagop.org/event/white-pine-county-lincoln-day-dinner-save-the-date/
LOCATION:Bristlecone Convention Center\, 150 W. 6th Street\, Ely\, Nevada
CATEGORIES:Community,Fundraising,Lincoln Day Event,Meet Up
END:VEVENT
BEGIN:VEVENT
DTSTART;TZID=America/Los_Angeles:20250118T090000
DTEND;TZID=America/Los_Angeles:20250118T120000
DTSTAMP:20260419T060002
CREATED:20241206T032651Z
LAST-MODIFIED:20241206T032651Z
UID:10008631-1737190800-1737201600@nevadagop.org
SUMMARY:White Pine Lincoln Day Breakfast
DESCRIPTION:
URL:https://nevadagop.org/event/white-pine-lincoln-day-breakfast/
LOCATION:Bristlecone Convention Center\, 150 W. 6th Street\, Ely\, Nevada
CATEGORIES:Lincoln Day Event
END:VEVENT
BEGIN:VEVENT
DTSTART;TZID=America/Los_Angeles:20230114T180000
DTEND;TZID=America/Los_Angeles:20230114T210000
DTSTAMP:20260419T060002
CREATED:20221209T024926Z
LAST-MODIFIED:20230112T200315Z
UID:10007660-1673719200-1673730000@nevadagop.org
SUMMARY:White Pine County Lincoln Day Dinner
DESCRIPTION:**For your information** \nFire And Ice Winter Festival\nFriday January 13th \n8:00 am Snow Sculptures Can Begin Being Made\, Weather Willing (Broadbent Park) \n9:00 am – 4:30 pm Open Ceramics Painting (Desert Rose Ceramics) \n11:00 am – 4:00 pm White Pine Public Museum is Open! \n3:30 pm – 4:30 pm Mural Walking Tour (Downtown Ely) \n4:30 pm Color Blast Kick-Off (Downtown Ely) \n5:00 pm – 7:00 pm Pub Crawl\, Sponsored by Chamber of Commerce (Downtown Ely) \n7:00 pm Concert\, featuring local band\, Desert Illness (Bristlecone Convention Center) \nSaturday\, January 14th – \n8:00 am Bristlecone Birkebeiner Race (Ward Mtn) \n9:00 – 4:30 pm Open Ceramics (Desert Rose Ceramics) \n11:00 am – 4:00 pm White Pine Public Museum is Open! \n12:00 pm Darts Tournament (VFW) \n1:00 pm Steam Train Excursion through Robinson Canyon (Nevada Northern Railway) \n1:00 pm Disc Golf Tournament after Birkebeiner (Veterans Park) \n2:00 pm Movie (Central Theater) \n1:00 pm – 4:00 pm Bowling (Sunset Lanes) \n4:30 pm Fireworks Train departs (NNRY) \n5:30 pm – 7:30 pm With Friends and Family\, do an Escape Room (Experience Escapes) \n6:00 pm Fireworks off the train(NNRY) \n7:00 pm Art Sculpture Bonfire (NNRY) \n7:00 pm Movie (Central Theater) \nSunday\, January 15th – \n9:00 am Morning Hike (Cave Lake State Park) \n9:00 am – 4:30 pm Open Ceramics Painting (Desert Rose Ceramics) \n11:00 am – 4:00 pm White Pine Public Museum is Open! \n11:00 am – 3:00 pm Chamber Horseshoe Tournament (Broadbent Park) \n11:00 am – 3:00 pm Cornhole Tournament\, Must Register Before Event (Broadbent Park) \n3:00 pm Snow Sculptures End & Are Ready For Judging! (Broadbent Park) \n2:00 pm Movie (Central Theater) \n5:30 pm Fireworks (Broadbent Park) \n7:00 pm Movie (Central Theater)
URL:https://nevadagop.org/event/white-pine-county-lincoln-day-dinner/
LOCATION:Bristlecone Convention Center\, 150 W. 6th Street\, Ely\, Nevada
CATEGORIES:Community,Lincoln Day Event,Party
END:VEVENT
BEGIN:VEVENT
DTSTART;TZID=America/Los_Angeles:20230114T070000
DTEND;TZID=America/Los_Angeles:20230114T170000
DTSTAMP:20260419T060002
CREATED:20221206T234144Z
LAST-MODIFIED:20221209T150404Z
UID:10007662-1673679600-1673715600@nevadagop.org
SUMMARY:Nevada Republican Party Central Committee Winter Meeting
DESCRIPTION:Call to Meeting  \nTentative Agenda \nLodging Options \nRegistration Form  \nProxy Form  \nOn line Registration \nRegistration Link for the White Pine Lincoln Day Dinner  (Tickets for this event will be available until January 6\, 2023. No ticket sales at the door)
URL:https://nevadagop.org/event/nevada-republican-party-central-committee-winter-meeting/
LOCATION:Bristlecone Convention Center\, 150 W. 6th Street\, Ely\, Nevada
CATEGORIES:Central Committee Meeting,Fundraising,Meetings
END:VEVENT
BEGIN:VEVENT
DTSTART;TZID=America/Los_Angeles:20230113T150000
DTEND;TZID=America/Los_Angeles:20230113T170000
DTSTAMP:20260419T060002
CREATED:20221206T181844Z
LAST-MODIFIED:20221206T181844Z
UID:10006444-1673622000-1673629200@nevadagop.org
SUMMARY:Nevada Republican Party Rural Caucus Meeting
DESCRIPTION:Click here for the NRRC Agenda 1-13-23
URL:https://nevadagop.org/event/nevada-republican-party-rural-caucus-meeting/
LOCATION:Bristlecone Convention Center\, 150 W. 6th Street\, Ely\, Nevada
CATEGORIES:Meetings
END:VEVENT
BEGIN:VEVENT
DTSTART;TZID=America/Los_Angeles:20220122T090000
DTEND;TZID=America/Los_Angeles:20220122T120000
DTSTAMP:20260419T060002
CREATED:20211214T225256Z
LAST-MODIFIED:20211216T044616Z
UID:10006904-1642842000-1642852800@nevadagop.org
SUMMARY:White Pine County Lincon Day Breakfast
DESCRIPTION:
URL:https://nevadagop.org/event/white-pine-county-lincon-day-breakfast/
LOCATION:Bristlecone Convention Center\, 150 W. 6th Street\, Ely\, Nevada
CATEGORIES:Lincoln Day Event
END:VEVENT
BEGIN:VEVENT
DTSTART;TZID=America/Los_Angeles:20200118T083000
DTEND;TZID=America/Los_Angeles:20200118T110000
DTSTAMP:20260419T060002
CREATED:20190813T192128Z
LAST-MODIFIED:20200108T224832Z
UID:10003971-1579336200-1579345200@nevadagop.org
SUMMARY:White Pine Lincoln Day Breakfast
DESCRIPTION:  \n  \n  \nThe White Pine Republican Central Committee invites you to attend our annual\nLincoln Day breakfast. Tickets may be purchased online at\nhttp://wprcclincolnday.brownpapertickets.com for $35 each until January 8 at\nwhich time price becomes $40 each. This annual event is set for January 18\,\n2020 and will be held in the Bristlecone Convention Center at 150 6th Street\nhere in Ely. Doors open at 8:30 AM. \nAny Republican candidate for public office will be offered the opportunity\nto speak to the audience for five minutes or more and will also be offered\nan interview with Wyatt Cox of KELY radio at no cost to the candidate. Wyatt\ncan be reached at KELY Radio by email at kely1230ely@gmail.com. If time\npermits there will be a Q&A after all candidates have spoken. \nChairman Michael Kneese has also arranged for a 10% discount for rooms at\nthe Prospector Hotel (includes their new ‘annex’ of a Holiday Inn Express)\nat 775-290-8900 and at  the Hotel Nevada at 775-289-4715. Just mention the\ncode GOP2020 when making reservations.
URL:https://nevadagop.org/event/ely-lincoln-day-breakfast/
LOCATION:Bristlecone Convention Center\, 150 W. 6th Street\, Ely\, Nevada
CATEGORIES:Lincoln Day Event
END:VEVENT
BEGIN:VEVENT
DTSTART;TZID=America/Los_Angeles:20200118T083000
DTEND;TZID=America/Los_Angeles:20200118T110000
DTSTAMP:20260419T060002
CREATED:20190813T192128Z
LAST-MODIFIED:20190813T192128Z
UID:10004598-1579336200-1579345200@nevadagop.org
SUMMARY:White Pine Lincoln Day Breakfast
DESCRIPTION:  \n  \n  \nThe White Pine Republican Central Committee invites you to attend our annual\nLincoln Day breakfast. Tickets may be purchased online at\nhttp://wprcclincolnday.brownpapertickets.com for $35 each until January 8 at\nwhich time price becomes $40 each. This annual event is set for January 18\,\n2020 and will be held in the Bristlecone Convention Center at 150 6th Street\nhere in Ely. Doors open at 8:30 AM. \nAny Republican candidate for public office will be offered the opportunity\nto speak to the audience for five minutes or more and will also be offered\nan interview with Wyatt Cox of KELY radio at no cost to the candidate. Wyatt\ncan be reached at KELY Radio by email at kely1230ely@gmail.com. If time\npermits there will be a Q&A after all candidates have spoken. \nChairman Michael Kneese has also arranged for a 10% discount for rooms at\nthe Prospector Hotel (includes their new ‘annex’ of a Holiday Inn Express)\nat 775-290-8900 and at  the Hotel Nevada at 775-289-4715. Just mention the\ncode GOP2020 when making reservations.
URL:https://nevadagop.org/event/ely-lincoln-day-breakfast-2/
LOCATION:Bristlecone Convention Center\, 150 W. 6th Street\, Ely\, Nevada
CATEGORIES:Lincoln Day Event
END:VEVENT
END:VCALENDAR