BEGIN:VCALENDAR
VERSION:2.0
PRODID:-//Nevada Republican Party - ECPv6.15.20//NONSGML v1.0//EN
CALSCALE:GREGORIAN
METHOD:PUBLISH
X-ORIGINAL-URL:https://nevadagop.org
X-WR-CALDESC:Events for Nevada Republican Party
REFRESH-INTERVAL;VALUE=DURATION:PT1H
X-Robots-Tag:noindex
X-PUBLISHED-TTL:PT1H
BEGIN:VTIMEZONE
TZID:America/Los_Angeles
BEGIN:DAYLIGHT
TZOFFSETFROM:-0800
TZOFFSETTO:-0700
TZNAME:PDT
DTSTART:20180311T100000
END:DAYLIGHT
BEGIN:STANDARD
TZOFFSETFROM:-0700
TZOFFSETTO:-0800
TZNAME:PST
DTSTART:20181104T090000
END:STANDARD
BEGIN:DAYLIGHT
TZOFFSETFROM:-0800
TZOFFSETTO:-0700
TZNAME:PDT
DTSTART:20190310T100000
END:DAYLIGHT
BEGIN:STANDARD
TZOFFSETFROM:-0700
TZOFFSETTO:-0800
TZNAME:PST
DTSTART:20191103T090000
END:STANDARD
BEGIN:DAYLIGHT
TZOFFSETFROM:-0800
TZOFFSETTO:-0700
TZNAME:PDT
DTSTART:20200308T100000
END:DAYLIGHT
BEGIN:STANDARD
TZOFFSETFROM:-0700
TZOFFSETTO:-0800
TZNAME:PST
DTSTART:20201101T090000
END:STANDARD
END:VTIMEZONE
BEGIN:VEVENT
DTSTART;TZID=America/Los_Angeles:20191119T110000
DTEND;TZID=America/Los_Angeles:20191119T140000
DTSTAMP:20260420T020954
CREATED:20191022T161550Z
LAST-MODIFIED:20191027T180725Z
UID:10004371-1574161200-1574172000@nevadagop.org
SUMMARY:Republican Men's Club (Northern Nevada)
DESCRIPTION:Republican Men’s Club \nTuesday November 19th – Luncheon  \nMeeting at the Atlantis Resort – 11am doors open  \nLunch served at 11:30 am – Speaker starts at 12:05 pm \nSpeakers   \nNevada State Director Joe Weaver  \n  & Washoe Director Kevin Magee \n\nTrump Victory Campaign\n\nMichael Kadenacy \nChairman Washoe Republican Party\n\n\n\n\n\n\n\n\n\n\n\n\n\n\n\n\n\n\n\n\n\n\n\n\n\n\n\n\n\n\n\nTopic – The 2020 Campaign Currently \nPlease sign up at \nrepublicanmensclub.org \nGo to our reservations tab \nLunch $25 for those registered if not add $5  \nQuestions contact:  \nRay Rocha at nevadarocha@yahoo.com or  \nRoger Edwards at nvedwars47@gmail.com
URL:https://nevadagop.org/event/republican-mens-club-northern-nevada/
LOCATION:Atlantis Casino Resort Spa\, 3800 S. Virginia Street\, Reno\, NV\, 89502\, United States
CATEGORIES:Meetings
ORGANIZER;CN="Republican Men's Club":MAILTO:nevadarocha@yahoo.com 
GEO:39.529914;-119.814228
X-APPLE-STRUCTURED-LOCATION;VALUE=URI;X-ADDRESS=Atlantis Casino Resort Spa 3800 S. Virginia Street Reno NV 89502 United States;X-APPLE-RADIUS=500;X-TITLE=3800 S. Virginia Street:geo:-119.814228,39.529914
END:VEVENT
BEGIN:VEVENT
DTSTART;TZID=America/Los_Angeles:20191119T110000
DTEND;TZID=America/Los_Angeles:20191119T140000
DTSTAMP:20260420T020954
CREATED:20191022T161550Z
LAST-MODIFIED:20191022T161550Z
UID:10006119-1574161200-1574172000@nevadagop.org
SUMMARY:Republican Men's Club (Northern Nevada)
DESCRIPTION:Republican Men’s Club \nTuesday November 19th – Luncheon  \nMeeting at the Atlantis Resort – 11am doors open  \nLunch served at 11:30 am – Speaker starts at 12:05 pm \nSpeakers   \nNevada State Director Joe Weaver  \n  & Washoe Director Kevin Magee \n\nTrump Victory Campaign\n\nMichael Kadenacy \nChairman Washoe Republican Party\n\n\n\n\n\n\n\n\n\n\n\n\n\n\n\n\n\n\n\n\n\n\n\n\n\n\n\n\n\n\n\nTopic – The 2020 Campaign Currently \nPlease sign up at \nrepublicanmensclub.org \nGo to our reservations tab \nLunch $25 for those registered if not add $5  \nQuestions contact:  \nRay Rocha at nevadarocha@yahoo.com or  \nRoger Edwards at nvedwars47@gmail.com
URL:https://nevadagop.org/event/republican-mens-club-northern-nevada-2/
LOCATION:Atlantis Casino Resort Spa\, 3800 S. Virginia Street\, Reno\, NV\, 89502\, United States
CATEGORIES:Meetings
ORGANIZER;CN="Republican Men's Club":MAILTO:nevadarocha@yahoo.com 
GEO:39.529914;-119.814228
X-APPLE-STRUCTURED-LOCATION;VALUE=URI;X-ADDRESS=Atlantis Casino Resort Spa 3800 S. Virginia Street Reno NV 89502 United States;X-APPLE-RADIUS=500;X-TITLE=3800 S. Virginia Street:geo:-119.814228,39.529914
END:VEVENT
BEGIN:VEVENT
DTSTART;TZID=America/Los_Angeles:20190919T110000
DTEND;TZID=America/Los_Angeles:20190919T130000
DTSTAMP:20260420T020954
CREATED:20190907T171600Z
LAST-MODIFIED:20190907T171600Z
UID:10004246-1568890800-1568898000@nevadagop.org
SUMMARY:RMC Republican Men's Club (Northern Nevada)
DESCRIPTION:Special day this month-Thursday Sept. 19th lunch at the Atlantis Casino Reno\nAt least 2 County Commissioners to speak\nMarsha Berkbigler & Jeanne Herman \nWashoe County issues will be addressed \nDoors open at 11 am – lunch at 11:30 –\nSpeakers at noon\nYou are able to register at our website \nQuestions contact Roger Edwards at nvedwards47@gmail.com\nor Ray Rocha at nevadarocha@yahoo.com \n 
URL:https://nevadagop.org/event/rmc-republican-mens-club-northern-nevada/
LOCATION:Atlantis Casino Resort Spa\, 3800 S. Virginia Street\, Reno\, NV\, 89502\, United States
CATEGORIES:Meetings
ORGANIZER;CN="Republican Men's Club":MAILTO:nevadarocha@yahoo.com 
GEO:39.529914;-119.814228
X-APPLE-STRUCTURED-LOCATION;VALUE=URI;X-ADDRESS=Atlantis Casino Resort Spa 3800 S. Virginia Street Reno NV 89502 United States;X-APPLE-RADIUS=500;X-TITLE=3800 S. Virginia Street:geo:-119.814228,39.529914
END:VEVENT
BEGIN:VEVENT
DTSTART;TZID=America/Los_Angeles:20190919T110000
DTEND;TZID=America/Los_Angeles:20190919T130000
DTSTAMP:20260420T020954
CREATED:20190907T171600Z
LAST-MODIFIED:20190907T171600Z
UID:10005978-1568890800-1568898000@nevadagop.org
SUMMARY:RMC Republican Men's Club (Northern Nevada)
DESCRIPTION:Special day this month-Thursday Sept. 19th lunch at the Atlantis Casino Reno\nAt least 2 County Commissioners to speak\nMarsha Berkbigler & Jeanne Herman \nWashoe County issues will be addressed \nDoors open at 11 am – lunch at 11:30 –\nSpeakers at noon\nYou are able to register at our website \nQuestions contact Roger Edwards at nvedwards47@gmail.com\nor Ray Rocha at nevadarocha@yahoo.com \n 
URL:https://nevadagop.org/event/rmc-republican-mens-club-northern-nevada-2/
LOCATION:Atlantis Casino Resort Spa\, 3800 S. Virginia Street\, Reno\, NV\, 89502\, United States
CATEGORIES:Meetings
ORGANIZER;CN="Republican Men's Club":MAILTO:nevadarocha@yahoo.com 
GEO:39.529914;-119.814228
X-APPLE-STRUCTURED-LOCATION;VALUE=URI;X-ADDRESS=Atlantis Casino Resort Spa 3800 S. Virginia Street Reno NV 89502 United States;X-APPLE-RADIUS=500;X-TITLE=3800 S. Virginia Street:geo:-119.814228,39.529914
END:VEVENT
BEGIN:VEVENT
DTSTART;TZID=America/Los_Angeles:20190820T110000
DTEND;TZID=America/Los_Angeles:20190820T140000
DTSTAMP:20260420T020954
CREATED:20190808T020655Z
LAST-MODIFIED:20190808T020948Z
UID:10003949-1566298800-1566309600@nevadagop.org
SUMMARY:Republican Men's Club
DESCRIPTION:Speakers – Andrew Caudill & Ellen Minetto \nTopic – School District Budget & Management Challenges\nQuestions contact \nRoger Edwards at nvedwards47@gmail.com or\nRay Rocha at nevadarocha@yahoo.com
URL:https://nevadagop.org/event/republican-mens-club/
LOCATION:Atlantis Casino Resort Spa\, 3800 S. Virginia Street\, Reno\, NV\, 89502\, United States
CATEGORIES:Meetings
ORGANIZER;CN="Republican Men's Club":MAILTO:nevadarocha@yahoo.com 
GEO:39.529914;-119.814228
X-APPLE-STRUCTURED-LOCATION;VALUE=URI;X-ADDRESS=Atlantis Casino Resort Spa 3800 S. Virginia Street Reno NV 89502 United States;X-APPLE-RADIUS=500;X-TITLE=3800 S. Virginia Street:geo:-119.814228,39.529914
END:VEVENT
BEGIN:VEVENT
DTSTART;TZID=America/Los_Angeles:20190820T110000
DTEND;TZID=America/Los_Angeles:20190820T140000
DTSTAMP:20260420T020954
CREATED:20190808T020655Z
LAST-MODIFIED:20190808T020655Z
UID:10005296-1566298800-1566309600@nevadagop.org
SUMMARY:Republican Men's Club
DESCRIPTION:Speakers – Andrew Caudill & Ellen Minetto \nTopic – School District Budget & Management Challenges\nQuestions contact \nRoger Edwards at nvedwards47@gmail.com or\nRay Rocha at nevadarocha@yahoo.com
URL:https://nevadagop.org/event/republican-mens-club-2/
LOCATION:Atlantis Casino Resort Spa\, 3800 S. Virginia Street\, Reno\, NV\, 89502\, United States
CATEGORIES:Meetings
ORGANIZER;CN="Republican Men's Club":MAILTO:nevadarocha@yahoo.com 
GEO:39.529914;-119.814228
X-APPLE-STRUCTURED-LOCATION;VALUE=URI;X-ADDRESS=Atlantis Casino Resort Spa 3800 S. Virginia Street Reno NV 89502 United States;X-APPLE-RADIUS=500;X-TITLE=3800 S. Virginia Street:geo:-119.814228,39.529914
END:VEVENT
END:VCALENDAR