BEGIN:VCALENDAR
VERSION:2.0
PRODID:-//Nevada Republican Party - ECPv6.15.20//NONSGML v1.0//EN
CALSCALE:GREGORIAN
METHOD:PUBLISH
X-WR-CALNAME:Nevada Republican Party
X-ORIGINAL-URL:https://nevadagop.org
X-WR-CALDESC:Events for Nevada Republican Party
REFRESH-INTERVAL;VALUE=DURATION:PT1H
X-Robots-Tag:noindex
X-PUBLISHED-TTL:PT1H
BEGIN:VTIMEZONE
TZID:America/Los_Angeles
BEGIN:DAYLIGHT
TZOFFSETFROM:-0800
TZOFFSETTO:-0700
TZNAME:PDT
DTSTART:20180311T100000
END:DAYLIGHT
BEGIN:STANDARD
TZOFFSETFROM:-0700
TZOFFSETTO:-0800
TZNAME:PST
DTSTART:20181104T090000
END:STANDARD
BEGIN:DAYLIGHT
TZOFFSETFROM:-0800
TZOFFSETTO:-0700
TZNAME:PDT
DTSTART:20190310T100000
END:DAYLIGHT
BEGIN:STANDARD
TZOFFSETFROM:-0700
TZOFFSETTO:-0800
TZNAME:PST
DTSTART:20191103T090000
END:STANDARD
BEGIN:DAYLIGHT
TZOFFSETFROM:-0800
TZOFFSETTO:-0700
TZNAME:PDT
DTSTART:20200308T100000
END:DAYLIGHT
BEGIN:STANDARD
TZOFFSETFROM:-0700
TZOFFSETTO:-0800
TZNAME:PST
DTSTART:20201101T090000
END:STANDARD
BEGIN:DAYLIGHT
TZOFFSETFROM:-0800
TZOFFSETTO:-0700
TZNAME:PDT
DTSTART:20210314T100000
END:DAYLIGHT
BEGIN:STANDARD
TZOFFSETFROM:-0700
TZOFFSETTO:-0800
TZNAME:PST
DTSTART:20211107T090000
END:STANDARD
BEGIN:DAYLIGHT
TZOFFSETFROM:-0800
TZOFFSETTO:-0700
TZNAME:PDT
DTSTART:20220313T100000
END:DAYLIGHT
BEGIN:STANDARD
TZOFFSETFROM:-0700
TZOFFSETTO:-0800
TZNAME:PST
DTSTART:20221106T090000
END:STANDARD
BEGIN:DAYLIGHT
TZOFFSETFROM:-0800
TZOFFSETTO:-0700
TZNAME:PDT
DTSTART:20230312T100000
END:DAYLIGHT
BEGIN:STANDARD
TZOFFSETFROM:-0700
TZOFFSETTO:-0800
TZNAME:PST
DTSTART:20231105T090000
END:STANDARD
END:VTIMEZONE
BEGIN:VEVENT
DTSTART;TZID=America/Los_Angeles:20221215T173000
DTEND;TZID=America/Los_Angeles:20221215T210000
DTSTAMP:20260420T063657
CREATED:20221206T231308Z
LAST-MODIFIED:20221206T231308Z
UID:10007664-1671125400-1671138000@nevadagop.org
SUMMARY:ARW Christmas Dinner
DESCRIPTION:
URL:https://nevadagop.org/event/arw-christmas-dinner/
LOCATION:Red Rock Country Club\, 2250 Red Springs Dr.\, Las Vegas\, Nevada\, 89135
CATEGORIES:Holiday,Meetings,Party
END:VEVENT
BEGIN:VEVENT
DTSTART;TZID=America/Los_Angeles:20190921T180000
DTEND;TZID=America/Los_Angeles:20190921T220000
DTSTAMP:20260420T063657
CREATED:20190916T040013Z
LAST-MODIFIED:20190916T040013Z
UID:10004240-1569088800-1569103200@nevadagop.org
SUMMARY:ARW - "A September to Remember"
DESCRIPTION:ARW
URL:https://nevadagop.org/event/arw-a-september-to-remember/
CATEGORIES:Fundraising
END:VEVENT
BEGIN:VEVENT
DTSTART;TZID=America/Los_Angeles:20190921T180000
DTEND;TZID=America/Los_Angeles:20190921T220000
DTSTAMP:20260420T063657
CREATED:20190916T040013Z
LAST-MODIFIED:20190916T040013Z
UID:10006148-1569088800-1569103200@nevadagop.org
SUMMARY:ARW - "A September to Remember"
DESCRIPTION:ARW
URL:https://nevadagop.org/event/arw-a-september-to-remember-2/
CATEGORIES:Fundraising
END:VEVENT
END:VCALENDAR