BEGIN:VCALENDAR
VERSION:2.0
PRODID:-//Nevada Republican Party - ECPv6.15.20//NONSGML v1.0//EN
CALSCALE:GREGORIAN
METHOD:PUBLISH
X-WR-CALNAME:Nevada Republican Party
X-ORIGINAL-URL:https://nevadagop.org
X-WR-CALDESC:Events for Nevada Republican Party
REFRESH-INTERVAL;VALUE=DURATION:PT1H
X-Robots-Tag:noindex
X-PUBLISHED-TTL:PT1H
BEGIN:VTIMEZONE
TZID:America/Los_Angeles
BEGIN:DAYLIGHT
TZOFFSETFROM:-0800
TZOFFSETTO:-0700
TZNAME:PDT
DTSTART:20250309T100000
END:DAYLIGHT
BEGIN:STANDARD
TZOFFSETFROM:-0700
TZOFFSETTO:-0800
TZNAME:PST
DTSTART:20251102T090000
END:STANDARD
BEGIN:DAYLIGHT
TZOFFSETFROM:-0800
TZOFFSETTO:-0700
TZNAME:PDT
DTSTART:20260308T100000
END:DAYLIGHT
BEGIN:STANDARD
TZOFFSETFROM:-0700
TZOFFSETTO:-0800
TZNAME:PST
DTSTART:20261101T090000
END:STANDARD
BEGIN:DAYLIGHT
TZOFFSETFROM:-0800
TZOFFSETTO:-0700
TZNAME:PDT
DTSTART:20270314T100000
END:DAYLIGHT
BEGIN:STANDARD
TZOFFSETFROM:-0700
TZOFFSETTO:-0800
TZNAME:PST
DTSTART:20271107T090000
END:STANDARD
END:VTIMEZONE
BEGIN:VEVENT
DTSTART;TZID=America/Los_Angeles:20260225T160000
DTEND;TZID=America/Los_Angeles:20260225T170000
DTSTAMP:20260419T175346
CREATED:20251101T184750Z
LAST-MODIFIED:20251101T184750Z
UID:10009525-1772035200-1772038800@nevadagop.org
SUMMARY:Learn About the Constitution  - Washoe County
DESCRIPTION:
URL:https://nevadagop.org/event/learn-about-the-constitution-washoe-county/2026-02-25/
LOCATION:THIS IS A VIRTUAL EVENT – PLEASE RSVP FOR THE LINK
CATEGORIES:Community,Meet Up,Meetings
END:VEVENT
BEGIN:VEVENT
DTSTART;TZID=America/Los_Angeles:20260225T170000
DTEND;TZID=America/Los_Angeles:20260225T200000
DTSTAMP:20260419T175346
CREATED:20251013T155731Z
LAST-MODIFIED:20251013T155731Z
UID:10008718-1772038800-1772049600@nevadagop.org
SUMMARY:Mt. Rose Republican Women
DESCRIPTION:
URL:https://nevadagop.org/event/mt-rose-republican-women-3/2026-02-25/
LOCATION:Tamarack Casino\, 13101 S Virginia St.\, Reno\, NV\, 89511
CATEGORIES:Community,Fundraising,Meet Up,Meetings
END:VEVENT
END:VCALENDAR